BEGIN:VCALENDAR
PRODID:-//eluceo/ical//2.0/EN
VERSION:2.0
CALSCALE:GREGORIAN
BEGIN:VEVENT
UID:event-551
DTSTAMP:20260424T125758Z
SUMMARY:Study Spots
DESCRIPTION:Are you tired of the endless search for the perfect study envir
 onment? Look no further\, because Kraket has got you covered! All the room
 s are reserved from 09:00 to 17:00. Monday\, May 18 HG-08A37 Tuesday\, May
  19 HG-09A29 Wednesday\, May 20 HG-06A37 Thursday\, May 21 HG-09A32 Frid
 ay\, May 22 HG-09A32 Saturday\, May 23 HG-09A32 Tuesday\, May 26 HG-08A37 
 Wednesday\, May 27 HG-09A24 Thursday\, May 28 HG-10A36 Friday\, May 29 H
 G-08A37 Good luck with your studies and exams!
DTSTART:20260518T070000Z
DTEND:20260529T150000Z
LOCATION:Vrije Universiteit Amsterdam
END:VEVENT
BEGIN:VTIMEZONE
TZID:UTC
BEGIN:STANDARD
DTSTART:20260518T070000
TZNAME:UTC
TZOFFSETTO:+0000
TZOFFSETFROM:+0000
END:STANDARD
END:VTIMEZONE
END:VCALENDAR
