BEGIN:VCALENDAR
PRODID:-//eluceo/ical//2.0/EN
VERSION:2.0
CALSCALE:GREGORIAN
BEGIN:VEVENT
UID:event-550
DTSTAMP:20260424T131210Z
SUMMARY:EY Boat Tour
DESCRIPTION:Note: This activitiy is for 3rd year and higher students only (
 and master students) 🚤Join EY Consulting for an Informal Inhouseday - 
 Kraket Edition! On Wednesday\, 13 May 2026\, we're trading the office for 
 the Amsterdam canals! Join us at 17:00 sharp at Starboard Dock\, Amstel 17
 8\, for a relaxed boat tour\, enjoy drinks and snacks\, and hopefully some
  sunshine ☀️ while you get to know our EY Consulting team. Curious a
 bout a career in consulting? This is your chance to meet econometrics cons
 ultants from EY\, hear about their journey\, and ask all your questions in
  an informal setting. 🎓 Sign up now to secure your spot and get inspir
 ed!  Date: May 13\, 2026 Time: 17:00-19:00 Registrations open: April 22\,
  13:00 - May 6\, 13.00. Late registrations open: May 6\, 13:00 Capacity: 2
 0 Costs: Free Note: Late unregistrations or not showing up may lead to a f
 ine. Always contact Timo van den Doel (+31 6 33197262) from the board if 
 you are unable to come. You can find the fine policy here.
DTSTART:20260513T150000Z
DTEND:20260513T170000Z
LOCATION:The Starboard Dock - Canal Cruises
END:VEVENT
BEGIN:VTIMEZONE
TZID:UTC
BEGIN:STANDARD
DTSTART:20260513T150000
TZNAME:UTC
TZOFFSETTO:+0000
TZOFFSETFROM:+0000
END:STANDARD
END:VTIMEZONE
END:VCALENDAR
