BEGIN:VCALENDAR
PRODID:-//eluceo/ical//2.0/EN
VERSION:2.0
CALSCALE:GREGORIAN
BEGIN:VEVENT
UID:event-438
DTSTAMP:20260423T165655Z
SUMMARY:Inhouseday: Sprenkels
DESCRIPTION:Note: This activitiy is for 3rd year and higher students only (
 and master students) Note: This event is in Dutch. Een blik op de toekomst
 . Zowel voor de start van jouw carrière\, als in de werkzaamheden die wij
  verrichten. Wij nodigen jou graag uit voor de jaarlijkse Sprenkels inhous
 edag op 24 april bij ons op kantoor in Amsterdam. De perfecte gelegenheid 
 om te kijken of consultancy in de pensioen- en verzekeringssector bij jou 
 past. Daarna is het aan jou om samen met jouw mogelijk toekomstige collega
 ’s te stralen tijdens het tafeltennissen. Bij Sprenkels werken we met ee
 n divers team van professionele collega’s die hun sporen in het vak hebb
 en verdiend\, of juist met jonge professionals die nieuwsgierig\, leergier
 ig en enthousiast zijn. In onze gemengde teams zorgen zij voor de typische
  Sprenkels-mix: deskundig\, enthousiast\, maatschappelijk betrokken en per
 soonlijk. En we houden het altijd zo eenvoudig mogelijk. Want dat is de aa
 npak van Sprenkels. Op de inhousedag maak je kennis met de verschillende w
 erkvelden binnen Sprenkels. Voornamelijk zullen we focussen op de investme
 nt en actuariaat consultancy doormiddel van een casus. Dit is ook de geleg
 enheid om jou kennis te laten maken met de werkstudent-\, stage- of starte
 rspositie die Sprenkels biedt. In deze functies werk je aan diverse opdrac
 hten in verschillende werkvelden\, zo leer jij al snel hoe divers onze con
 sultancy is. Een snelle leercurve is bij Sprenkels gegarandeerd. Na de ken
 nismaking met Sprenkels\, onze werkvelden en de casus is het tijd om elkaa
 r beter te leren kennen tijdens het tafeltennissen. Tijdens deze activitei
 t zullen meerdere Sprenkels collega’s aanwezig zijn\, voor een potje taf
 eltennis of om jouw laatste vragen te beantwoorden. De tijd en locatie wo
 rden nog gecommuniceerd. Wij kijken ernaar uit om jou op de inhousedag te 
 ontvangen. Kunnen jouw vragen niet wachten of wil je graag in contact kome
 n? Dat kan dan via mail naar werken@sprenkels.nl. Registrations open: Ap
 ril 3\, 13:00 - April 10\, 13:00. Capacity: 20 Costs: Free Note: Late unre
 gistrations or not showing up may lead to a fine. Always contact Atakan Te
 ktas (+31 6 43112973) from the Board if you are unable to come. You can f
 ind the fine policy here.
DTSTART:20250424T094500Z
DTEND:20250424T163000Z
LOCATION:Sprenkels
END:VEVENT
BEGIN:VTIMEZONE
TZID:UTC
BEGIN:STANDARD
DTSTART:20250424T094500
TZNAME:UTC
TZOFFSETTO:+0000
TZOFFSETFROM:+0000
END:STANDARD
END:VTIMEZONE
END:VCALENDAR
